BEGIN:VCALENDAR
VERSION:2.0
PRODID:-//rallye-magazin.de - ECPv6.15.20//NONSGML v1.0//EN
CALSCALE:GREGORIAN
METHOD:PUBLISH
X-WR-CALNAME:rallye-magazin.de
X-ORIGINAL-URL:https://www.rallye-magazin.de
X-WR-CALDESC:Veranstaltungen für rallye-magazin.de
REFRESH-INTERVAL;VALUE=DURATION:PT1H
X-Robots-Tag:noindex
X-PUBLISHED-TTL:PT1H
BEGIN:VTIMEZONE
TZID:Europe/Berlin
BEGIN:DAYLIGHT
TZOFFSETFROM:+0100
TZOFFSETTO:+0200
TZNAME:CEST
DTSTART:20250330T010000
END:DAYLIGHT
BEGIN:STANDARD
TZOFFSETFROM:+0200
TZOFFSETTO:+0100
TZNAME:CET
DTSTART:20251026T010000
END:STANDARD
BEGIN:DAYLIGHT
TZOFFSETFROM:+0100
TZOFFSETTO:+0200
TZNAME:CEST
DTSTART:20260329T010000
END:DAYLIGHT
BEGIN:STANDARD
TZOFFSETFROM:+0200
TZOFFSETTO:+0100
TZNAME:CET
DTSTART:20261025T010000
END:STANDARD
BEGIN:DAYLIGHT
TZOFFSETFROM:+0100
TZOFFSETTO:+0200
TZNAME:CEST
DTSTART:20270328T010000
END:DAYLIGHT
BEGIN:STANDARD
TZOFFSETFROM:+0200
TZOFFSETTO:+0100
TZNAME:CET
DTSTART:20271031T010000
END:STANDARD
END:VTIMEZONE
BEGIN:VEVENT
DTSTART;TZID=Europe/Berlin:20260423T000000
DTEND;TZID=Europe/Berlin:20260425T235959
DTSTAMP:20260420T013623
CREATED:20251027T115837Z
LAST-MODIFIED:20251027T141150Z
UID:10000037-1776902400-1777161599@www.rallye-magazin.de
SUMMARY:Rallye Sulingen
DESCRIPTION:www.rallye-sulingen.de \n\n\n\n\n\n\n\n\n\n\n\n\n\n\n\nKnacker steigt in Porsche 992 Rally GT \n\n\n\n16. April 2026 \n\n\n\n\n\n\n\n\n\n\n\n\n\nGALERIE: Rallye Sulingen 2025\n\n\n\n29. April 2025 \n\n\n\n\n\n\n\n\n\n\n\n\n\nVIDEO:Best of Rallye Sulingen 2025\n\n\n\n27. April 2025 \n\n\n\n\n\n\n\n\n\n\n\n\n\nMarijan Griebel gewinnt Rallye Sulingen 2025\n\n\n\n26. April 2025 \n\n\n\n\n\n\n\n\n\n\n\n\n\nVIDEO: Shakedown – Rallye Sulingen 2025\n\n\n\n25. April 2025 \n\n\n\n\n\n\n\n\n\n\n\n\n\nGALERIE: Rallye Sulingen 2024\n\n\n\n5. Mai 2024 \n\n\n\n\n\n\n\n\n\n\n\n\n\nGriebel gewinnt zum ersten Mal die Rallye Sulingen\n\n\n\n5. Mai 2024 \n\n\n\n\n\n\n\n\n\n\n\n\n\nVIDEO: Highlights Rallye Sulingen 2024\n\n\n\n4. Mai 2024 \n\n\n\n\n\n\n\n\n\n\n\n\n\nVIDEO: Rallye Sulingen 2024 – Tag 1\n\n\n\n4. Mai 2024 \n\n\n\n\n\n\n\n\n\n\n\n\n\nVIDEO: Shakedown Rallye Sulingen\n\n\n\n2. Mai 2024 \n\n\n\n\n1\n2\n3\n4\n5\n\n\n\n\nzurück zur Übersicht
URL:https://www.rallye-magazin.de/rallye/rallye-sulingen/
CATEGORIES:DRM
END:VEVENT
BEGIN:VEVENT
DTSTART;TZID=Europe/Berlin:20260423T000000
DTEND;TZID=Europe/Berlin:20260426T235959
DTSTAMP:20260420T013623
CREATED:20251009T141114Z
LAST-MODIFIED:20251009T141115Z
UID:10000025-1776902400-1777247999@www.rallye-magazin.de
SUMMARY:Rally Islas Canarias
DESCRIPTION:rallyislascanarias.com \n\n\n\n\n\n\n\n\n\n\n\n\n\n\n\nVierfach-Sieg für Toyota auf Gran Canaria\n\n\n\n27. April 2025 \n\n\n\n\n\n\n\n\n\n\n\n\n\nRally Islas Canarias: Rovanperä setzt sich noch weiter ab\n\n\n\n26. April 2025 \n\n\n\n\n\n\n\n\n\n\n\n\n\nVIDEO: Rallye Islas Canarias – Tag 1\n\n\n\n26. April 2025 \n\n\n\n\n\n\n\n\n\n\n\n\n\nRally Islas Canarias: Rovanperä dominiert nach Belieben\n\n\n\n25. April 2025 \n\n\n\n\n\n\n\n\n\n\n\n\n\nLukyanuk gewinnt EM-Finale auf Gran Canaria\n\n\n\n21. November 2021 \n\n\n\n\n\n\n\n\n\n\n\n\n\nVIDEO: Rally Islas Canarias\n\n\n\n11. Mai 2019 \n\n\n\n\n\n\n\n\n\n\n\n\n\nMarijan Griebel: „Waren schneller als erwartet“\n\n\n\n6. Mai 2019 \n\n\n\n\n\n\n\n\n\n\n\n\n\nGriebel im Pech – Lopez siegt\n\n\n\n5. Mai 2019 \n\n\n\n\n\n\n\n\n\n\n\n\n\nVIDEO: Zuschauer retten Polo R5\n\n\n\n4. Mai 2019 \n\n\n\n\n\n\n\n\n\n\n\n\n\nGriebel kämpft um Podium – Lukyanuk vorn\n\n\n\n4. Mai 2019 \n\n\n\n\n1\n2\n\n\n\n\nzurück zur Übersicht
URL:https://www.rallye-magazin.de/rallye/rally-islas-canarias/
CATEGORIES:Rallye-WM
END:VEVENT
BEGIN:VEVENT
DTSTART;TZID=Europe/Berlin:20260507T000000
DTEND;TZID=Europe/Berlin:20260510T235959
DTSTAMP:20260420T013623
CREATED:20251009T142616Z
LAST-MODIFIED:20251009T143034Z
UID:10000026-1778112000-1778457599@www.rallye-magazin.de
SUMMARY:Rallye Portugal
DESCRIPTION:www.rallydeportugal.pt \n\n\n\n\n\n\n\n\n\n\n\n\n\n\n\nSchönborn: „Damit habe ich ehrlicherweise nicht gerechnet“\n\n\n\n19. Mai 2025 \n\n\n\n\n\n\n\n\n\n\n\n\n\nSebastien Ogier gewinnt Rallye Portugal 2025\n\n\n\n18. Mai 2025 \n\n\n\n\n\n\n\n\n\n\n\n\n\nVIDEO: Rallye Portugal 2025 – Tag 3\n\n\n\n18. Mai 2025 \n\n\n\n\n\n\n\n\n\n\n\n\n\nRallye Portugal: Rückschlag für Tänak – Ogier vorn\n\n\n\n17. Mai 2025 \n\n\n\n\n\n\n\n\n\n\n\n\n\nRallye Portugal: Tänak knapp vor Ogier\n\n\n\n16. Mai 2025 \n\n\n\n\n\n\n\n\n\n\n\n\n\nVIDEO: Rallye Portugal 2025 – Tag 1\n\n\n\n16. Mai 2025 \n\n\n\n\n\n\n\n\n\n\n\n\n\nGALERIE: Rallye Portugal 2025\n\n\n\n15. Mai 2025 \n\n\n\n\n\n\n\n\n\n\n\n\n\nClaire Schönborn: „Fühlen uns gut vorbereitet“\n\n\n\n12. Mai 2025 \n\n\n\n\n\n\n\n\n\n\n\n\n\nVIDEO: Best of Rallye Portugal 2024\n\n\n\n13. Mai 2024 \n\n\n\n\n\n\n\n\n\n\n\n\n\nOgier gewinnt Rallye Portugal- Neuville baut WM-Führung aus\n\n\n\n12. Mai 2024 \n\n\n\n\n1\n2\n3\n4\n…\n8\n\n\n\n\nzurück zur Übersicht
URL:https://www.rallye-magazin.de/rallye/rallye-portugal/
CATEGORIES:Rallye-WM
ATTACH;FMTTYPE=image/png:https://www.rallye-magazin.de/wp-content/uploads/2025/10/Rallye-Portugal-Plate.png
END:VEVENT
BEGIN:VEVENT
DTSTART;TZID=Europe/Berlin:20260625T000000
DTEND;TZID=Europe/Berlin:20260628T235959
DTSTAMP:20260420T013623
CREATED:20251009T145522Z
LAST-MODIFIED:20251009T154937Z
UID:10000028-1782345600-1782691199@www.rallye-magazin.de
SUMMARY:Akropolis Rallye
DESCRIPTION:Die von Fans kurz als „Akropolis“ bezeichnete Rallye zählte bereits in der ersten Saison der Rallye-Weltmeisterschaft 1973 zum Kalender und gilt seit jeher als eine der härtesten Herausforderungen. \n\n\n\n\n\nwww.acropolisrally.gr \n\n\n\n\n\n\n\n\n\n\n\n\n\n\n\nTänak gewinnt Akropolis Rallye 2025\n\n\n\n29. Juni 2025 \n\n\n\n\n\n\n\n\n\n\n\n\n\nVIDEO: Akropolis Rallye 2025 – Tag 3\n\n\n\n29. Juni 2025 \n\n\n\n\n\n\n\n\n\n\n\n\n\nVIDEO: Akropolis-Rallye 2025 – Tag 2\n\n\n\n28. Juni 2025 \n\n\n\n\n\n\n\n\n\n\n\n\n\nAkropolis-Rallye: Tänak knapp vor Fourmaux\n\n\n\n27. Juni 2025 \n\n\n\n\n\n\n\n\n\n\n\n\n\nVIDEO: Akropolis Rallye 2025 – Tag 1\n\n\n\n27. Juni 2025 \n\n\n\n\n\n\n\n\n\n\n\n\n\nArmin und Ella Kremer holen den Titel\n\n\n\n9. September 2024 \n\n\n\n\n\n\n\n\n\n\n\n\n\nOgier bekommt 30.000 Euro Strafzettel für diese Aussage\n\n\n\n8. September 2024 \n\n\n\n\n\n\n\n\n\n\n\n\n\nAkropolis-Rallye: Neuville führt nach dramatischen Tag\n\n\n\n7. September 2024 \n\n\n\n\n\n\n\n\n\n\n\n\n\nBitterer Auftakt für Toyota bei der Akropolis Rallye\n\n\n\n6. September 2024 \n\n\n\n\n\n\n\n\n\n\n\n\n\nAkropolis-Rallye: Armin Kremer kann den Titel holen\n\n\n\n3. September 2024 \n\n\n\n\n1\n2\n3\n4\n\n\n\n\nzurück zur Übersicht
URL:https://www.rallye-magazin.de/rallye/akropolis-rallye/
CATEGORIES:Rallye-WM
END:VEVENT
BEGIN:VEVENT
DTSTART;TZID=Europe/Berlin:20260716T000000
DTEND;TZID=Europe/Berlin:20260719T235959
DTSTAMP:20260420T013623
CREATED:20251016T083440Z
LAST-MODIFIED:20251016T083523Z
UID:10000030-1784160000-1784505599@www.rallye-magazin.de
SUMMARY:Rallye Estland
DESCRIPTION:rallyestonia.com \n\n\n\n\n\n\n\n\n\n\n\n\n\n\n\nVIDEO: Highlights Rallye Estland 2025\n\n\n\n21. Juli 2025 \n\n\n\n\n\n\n\n\n\n\n\n\n\nOliver Solberg feiert ersten WM-Sieg \n\n\n\n20. Juli 2025 \n\n\n\n\n\n\n\n\n\n\n\n\n\nRallye Estland: Solberg baut Führung aus\n\n\n\n19. Juli 2025 \n\n\n\n\n\n\n\n\n\n\n\n\n\nVIDEO: Rallye Estland 2025 – Tag 2\n\n\n\n19. Juli 2025 \n\n\n\n\n\n\n\n\n\n\n\n\n\nRallye Estland: Solberg übernimmt Führung\n\n\n\n18. Juli 2025 \n\n\n\n\n\n\n\n\n\n\n\n\n\nGALERIE: Rallye Estland 2025\n\n\n\n18. Juli 2025 \n\n\n\n\n\n\n\n\n\n\n\n\n\nVIDEO: Shakedown Rallye Estland 2025\n\n\n\n17. Juli 2025 \n\n\n\n\n\n\n\n\n\n\n\n\n\nOliver Solberg bekommt Rally1-Chance von Toyota\n\n\n\n3. Juli 2025 \n\n\n\n\n\n\n\n\n\n\n\n\n\nVIDEO: Best of Rallye Estland\n\n\n\n24. Juli 2023 \n\n\n\n\n\n\n\n\n\n\n\n\n\nVIDEO: Best of Rallye Estland\n\n\n\n24. Juli 2023 \n\n\n\n\n1\n2\n3\n4\n…\n7\n\n\n\n\nzurück zur Übersicht
URL:https://www.rallye-magazin.de/rallye/rallye-estland/
CATEGORIES:Rallye-WM
END:VEVENT
BEGIN:VEVENT
DTSTART;TZID=Europe/Berlin:20260723T000000
DTEND;TZID=Europe/Berlin:20260725T235959
DTSTAMP:20260420T013623
CREATED:20251001T074714Z
LAST-MODIFIED:20251016T083719Z
UID:10000023-1784764800-1785023999@www.rallye-magazin.de
SUMMARY:Eifel Rallye Festival
DESCRIPTION:eifel-rallye–festival.de \n\n\n\n\n\n\n\n\n\n\n\n\n\n\n\nEifel Rallye Festival: Neues Motto und neue Strecke\n\n\n\n15. Dezember 2025 \n\n\n\n\n\n\n\n\n\n\n\n\n\nEifel Rallye Festival vom 23. bis 25. Juli 2026\n\n\n\n1. Oktober 2025 \n\n\n\n\n\n\n\n\n\n\n\n\n\nVIDEO: Best of Eifel Rallye Festival 2025\n\n\n\n27. Juli 2025 \n\n\n\n\n\n\n\n\n\n\n\n\n\nVIDEO: Eifel Rallye Festival 2025 – Tag 1\n\n\n\n26. Juli 2025 \n\n\n\n\n\n\n\n\n\n\n\n\n\nVIDEO: Auftakt Eifel Rallye Festival 2025\n\n\n\n25. Juli 2025 \n\n\n\n\n\n\n\n\n\n\n\n\n\nWallenwein kehrt mit Porsche 992 RallyGT zurück\n\n\n\n21. Juni 2025 \n\n\n\n\n\n\n\n\n\n\n\n\n\nAudi-Elektro: Eifel Rallye Festival unter Strom\n\n\n\n12. Mai 2025 \n\n\n\n\n\n\n\n\n\n\n\n\n\nEifel-Rallye-Festival 2025: Weniger Vorwagen und neuer Ablauf\n\n\n\n8. Oktober 2024 \n\n\n\n\n\n\n\n\n\n\n\n\n\nVIDEO: Best of Eifel Rallye Festvial 2024\n\n\n\n18. August 2024 \n\n\n\n\n\n\n\n\n\n\n\n\n\nVIDEO: Shakedown Eifel Rallye Festival 2024\n\n\n\n16. August 2024 \n\n\n\n\n1\n2\n3\n4\n5\n\n\n\n\nzurück zur Übersicht
URL:https://www.rallye-magazin.de/rallye/eifel-rallye-festival/
CATEGORIES:NAT
END:VEVENT
BEGIN:VEVENT
DTSTART;TZID=Europe/Berlin:20260730T000000
DTEND;TZID=Europe/Berlin:20260802T235959
DTSTAMP:20260420T013623
CREATED:20251016T083934Z
LAST-MODIFIED:20251016T083935Z
UID:10000031-1785369600-1785715199@www.rallye-magazin.de
SUMMARY:Rallye Finnland
DESCRIPTION:sectorallyfinland.fi \n\n\n\n\n\n\n\n\n\n\n\n\n\n\n\nRallye Finnland 2026 ohne Ouninpohja\n\n\n\n5. Februar 2026 \n\n\n\n\n\n\n\n\n\n\n\n\n\nVIDEO: Best of Rallye Finnland 2025\n\n\n\n4. August 2025 \n\n\n\n\n\n\n\n\n\n\n\n\n\nNeuer Fünf-Jahres-Vertrag für Rallye-Finnland\n\n\n\n3. August 2025 \n\n\n\n\n\n\n\n\n\n\n\n\n\nVIDEO: Rallye Finnland 2025 – Tag 3\n\n\n\n3. August 2025 \n\n\n\n\n\n\n\n\n\n\n\n\n\nRallye Finnland: Toyota dominiert in Finnland\n\n\n\n2. August 2025 \n\n\n\n\n\n\n\n\n\n\n\n\n\nVIDEO: Rallye Finnland 2025 – Tag 2\n\n\n\n1. August 2025 \n\n\n\n\n\n\n\n\n\n\n\n\n\nRallye Finnland: Rovanperä knapp vor Neuville\n\n\n\n1. August 2025 \n\n\n\n\n\n\n\n\n\n\n\n\n\nGALERIE: Rallye Finnland 2025\n\n\n\n1. August 2025 \n\n\n\n\n\n\n\n\n\n\n\n\n\nVIDEO: Rallye Finnland 2025 – Shakedown\n\n\n\n31. Juli 2025 \n\n\n\n\n\n\n\n\n\n\n\n\n\nSchönborn holt sich Nachhilfe bei Suninen\n\n\n\n29. Juli 2025 \n\n\n\n\n1\n2\n3\n4\n…\n9\n\n\n\n\nzurück zur Übersicht
URL:https://www.rallye-magazin.de/rallye/rallye-finnland/
CATEGORIES:Rallye-WM
END:VEVENT
BEGIN:VEVENT
DTSTART;TZID=Europe/Berlin:20260801T000000
DTEND;TZID=Europe/Berlin:20260802T235959
DTSTAMP:20260420T013623
CREATED:20251122T101301Z
LAST-MODIFIED:20251122T101410Z
UID:10000041-1785542400-1785715199@www.rallye-magazin.de
SUMMARY:Rallye ADAC Mittelrhein
DESCRIPTION:adac-mittelrhein.de \n\n\n\n\n\n\n\n\n\n\n\n\n\n\n\nGALERIE: Rallye ADAC Mittelrhein 2025\n\n\n\n7. August 2025 \n\n\n\n\n\n\n\n\n\n\n\n\n\nVIDEO: Highlights Rallye Mittelrhein 2025\n\n\n\n3. August 2025 \n\n\n\n\n\n\n\n\n\n\n\n\n\nMarijan Griebel gewinnt Rallye Mittelrhein 2025\n\n\n\n3. August 2025 \n\n\n\n\n\n\n\n\n\n\n\n\n\nVIDEO: Rallye Mittelrhein 2025 – Tag 1\n\n\n\n3. August 2025 \n\n\n\n\n\n\n\n\n\n\n\n\n\nVIDEO: Rallye ADAC Mittelrhein 2025 – Shakedown\n\n\n\n1. August 2025 \n\n\n\n\n\n\n\n\n\n\n\n\n\nVIDEO: Rallye Mittelrhein – Tests\n\n\n\n31. Juli 2025 \n\n\n\n\n\n\n\n\n\n\n\n\n\nGriebel über Rallye Mittelrhein: „Das ist kein Selbstläufer“\n\n\n\n30. Juli 2025 \n\n\n\n\n\n\n\n\n\n\n\n\n\nArmin Kremer kehrt im Toyota GR Yaris Rally2 zurück\n\n\n\n24. Juni 2025 \n\n\n\n\n\n\n\n\n\n\n\n\n\nFabio Schwarz fordert DRM-Elite heraus\n\n\n\n15. April 2025 \n\n\n\n\n\n\n\n\n\n\n\n\n\nRallye Mittelrhein: Hattrick für Griebel\n\n\n\n16. Juni 2024 \n\n\n\n\n1\n2\n3\n\n\n\n\nzurück zur Übersicht
URL:https://www.rallye-magazin.de/rallye/rallye-adac-mittelrhein/
CATEGORIES:DRM
END:VEVENT
BEGIN:VEVENT
DTSTART;TZID=Europe/Berlin:20260814T000000
DTEND;TZID=Europe/Berlin:20260815T235959
DTSTAMP:20260420T013623
CREATED:20251107T064701Z
LAST-MODIFIED:20251107T070359Z
UID:10000039-1786665600-1786838399@www.rallye-magazin.de
SUMMARY:Saarland Pfalz Rallye
DESCRIPTION:adac-saarland.de/saarland-pfalz-rallye \n\n\n\n\n\n\n\n\n\n\n\n\n\n\n\nGriebel gewinnt erneut Saarland-Pfalz Rallye\n\n\n\n16. August 2025 \n\n\n\n\n\n\n\n\n\n\n\n\n\nVIDEO: Best of Saarland-Pfalz-Rallye 2025\n\n\n\n16. August 2025 \n\n\n\n\n\n\n\n\n\n\n\n\n\nVIDEO: Saarland-Pfalz-Rallye 2025 – Tag 1\n\n\n\n16. August 2025 \n\n\n\n\n\n\n\n\n\n\n\n\n\nVIDEO: Saarland-Pfalz Rallye 2025 – Shakedown\n\n\n\n15. August 2025 \n\n\n\n\n\n\n\n\n\n\n\n\n\nGriebel-Heimspiel: Konkurrenten mit neuen Beifahrern\n\n\n\n14. August 2025 \n\n\n\n\n\n\n\n\n\n\n\n\n\nVIDEO: Best of Saarland-Pfalz Rallye 2024\n\n\n\n30. Juni 2024 \n\n\n\n\n\n\n\n\n\n\n\n\n\nGALERIE: Rallye Saarland 2024\n\n\n\n30. Juni 2024 \n\n\n\n\n\n\n\n\n\n\n\n\n\nGriebel gewinnt auch Saarland-Pfalz-Rallye\n\n\n\n29. Juni 2024 \n\n\n\n\n\n\n\n\n\n\n\n\n\nWird die DRM bereits Ende Juni entschieden?\n\n\n\n27. Juni 2024 \n\n\n\n\n\n\n\n\n\n\n\n\n\nVIDEO: Saarland Pfalz Rallye\n\n\n\n20. August 2023 \n\n\n\n\n1\n2\n3\n\n\n\n\nzurück zur Übersicht
URL:https://www.rallye-magazin.de/rallye/saarland-pfalz-rallye/
CATEGORIES:DRM
END:VEVENT
BEGIN:VEVENT
DTSTART;TZID=Europe/Berlin:20260827T000000
DTEND;TZID=Europe/Berlin:20260830T235959
DTSTAMP:20260420T013623
CREATED:20251016T084441Z
LAST-MODIFIED:20251016T084508Z
UID:10000032-1787788800-1788134399@www.rallye-magazin.de
SUMMARY:Rallye Paraguay
DESCRIPTION:rallydelparaguay.com \n\n\n\n\n\n\n\n\n\n\n\n\n\n\n\nVideo: Rallye Paraguay 2025 Action\n\n\n\n4. September 2025 \n\n\n\n\n\n\n\n\n\n\n\n\n\nOgier gewinnt die WM-Premiere der Rallye Paraguay\n\n\n\n31. August 2025 \n\n\n\n\n\n\n\n\n\nzurück zur Übersicht
URL:https://www.rallye-magazin.de/rallye/rallye-paraguay/
CATEGORIES:Rallye-WM
END:VEVENT
BEGIN:VEVENT
DTSTART;TZID=Europe/Berlin:20260910T000000
DTEND;TZID=Europe/Berlin:20260913T235959
DTSTAMP:20260420T013623
CREATED:20251016T085040Z
LAST-MODIFIED:20251016T085040Z
UID:10000033-1788998400-1789343999@www.rallye-magazin.de
SUMMARY:Rallye Chile
DESCRIPTION:rallychilebiobio.com \n\n\n\n\n\n\n\n\n\n\n\n\n\n\n\nOgier gewinnt Rallye Chile und übernimmt WM-Führung\n\n\n\n14. September 2025 \n\n\n\n\n\n\n\n\n\n\n\n\n\nVideo: Rallye Chile 2025 – Tag 2\n\n\n\n14. September 2025 \n\n\n\n\n\n\n\n\n\n\n\n\n\nRallye Chile: Ogier übernimmt die Führung\n\n\n\n14. September 2025 \n\n\n\n\n\n\n\n\n\n\n\n\n\nVideo: Rallye Chile 2025 – Tag 1\n\n\n\n13. September 2025 \n\n\n\n\n\n\n\n\n\n\n\n\n\nRallye Chile: Tänak fällt aus – Fourmaux knapp vorn\n\n\n\n13. September 2025 \n\n\n\n\n\n\n\n\n\n\n\n\n\nGalerie: Rallye Chile 2025\n\n\n\n12. September 2025 \n\n\n\n\n\n\n\n\n\n\n\n\n\nRovanperä gewinnt Rallye Chile – Neuville auf Titelkurs\n\n\n\n29. September 2024 \n\n\n\n\n\n\n\n\n\n\n\n\n\nRallye Chile: Rovanperä übernimmt die Führung – Ogier raus\n\n\n\n29. September 2024 \n\n\n\n\n\n\n\n\n\n\n\n\n\nRallye Chile: Tänak übernimmt Spitze knapp vor Evans\n\n\n\n28. September 2024 \n\n\n\n\n\n\n\n\n\n\n\n\n\nPajari ersetzt Katsuta – Toyota zieht alle Register\n\n\n\n11. September 2024 \n\n\n\n\n1\n2\n3\n4\n\n\n\n\nzurück zur Übersicht
URL:https://www.rallye-magazin.de/rallye/rallye-chile-2/
CATEGORIES:Rallye-WM
END:VEVENT
BEGIN:VEVENT
DTSTART;TZID=Europe/Berlin:20260925T000000
DTEND;TZID=Europe/Berlin:20260926T235959
DTSTAMP:20260420T013623
CREATED:20251122T101706Z
LAST-MODIFIED:20251122T101708Z
UID:10000042-1790294400-1790467199@www.rallye-magazin.de
SUMMARY:Rallye Stemweder Berg
DESCRIPTION:rallye-stemweder-berg.de \n\n\n\n\n\n\n\n\n\n\n\n\n\n\n\nVideo: Best of Rallye Stemweder Berg 2025\n\n\n\n28. September 2025 \n\n\n\n\n\n\n\n\n\n\n\n\n\nRallye Stemweder Berg: Sieg für Geipel – Titel für Griebel\n\n\n\n28. September 2025 \n\n\n\n\n\n\n\n\n\n\n\n\n\nRallye Stemweder Berg: Matchball für Marijan Griebel\n\n\n\n23. September 2025 \n\n\n\n\n\n\n\n\n\n\n\n\n\nGALERIE: Rallye Stemweder Berg 2024\n\n\n\n11. August 2024 \n\n\n\n\n\n\n\n\n\n\n\n\n\nVIDEO: Best of Rallye Stemweder Berg\n\n\n\n30. September 2023 \n\n\n\n\n\n\n\n\n\n\n\n\n\nVIDEO: Best of Rallye Stemweder Berg\n\n\n\n30. September 2023 \n\n\n\n\n\n\n\n\n\n\n\n\n\nRallye Stemweder Berg: Griebel gewinnt und holt Titel\n\n\n\n30. September 2023 \n\n\n\n\n\n\n\n\n\n\n\n\n\nRallye Stemweder Berg: Griebel gewinnt und holt Titel\n\n\n\n30. September 2023 \n\n\n\n\n\n\n\n\n\n\n\n\n\nVIDEO: Rallye Stemweder Berg – Tag 1\n\n\n\n29. September 2023 \n\n\n\n\n\n\n\n\n\n\n\n\n\nRallye Stemweder Berg: Infos und Zeitplan\n\n\n\n28. September 2023 \n\n\n\n\n1\n2\n3\n4\n\n\n\n\nzurück zur Übersicht
URL:https://www.rallye-magazin.de/rallye/rallye-stemweder-berg/
CATEGORIES:DRM
END:VEVENT
BEGIN:VEVENT
DTSTART;TZID=Europe/Berlin:20261001T000000
DTEND;TZID=Europe/Berlin:20261004T235959
DTSTAMP:20260420T013623
CREATED:20251016T085357Z
LAST-MODIFIED:20251016T085411Z
UID:10000034-1790812800-1791158399@www.rallye-magazin.de
SUMMARY:Rallye Italien
DESCRIPTION:rallyitaliasardegna.com \n\n\n\n\n\n\n\n\n\n\n\n\n\n\n\nRom als Favorit für die Rallye Italien?\n\n\n\n3. September 2025 \n\n\n\n\n\n\n\n\n\n\n\n\n\nVIDEO: Best of Rallye Sardinien 2025\n\n\n\n9. Juni 2025 \n\n\n\n\n\n\n\n\n\n\n\n\n\nOgier gewinnt Rallye Sardinien\n\n\n\n8. Juni 2025 \n\n\n\n\n\n\n\n\n\n\n\n\n\nVIDEO: Rallye Sardinien – Tag 2\n\n\n\n7. Juni 2025 \n\n\n\n\n\n\n\n\n\n\n\n\n\nVIDEO: Rallye Sardinien – Tag 2\n\n\n\n7. Juni 2025 \n\n\n\n\n\n\n\n\n\n\n\n\n\nRallye Sardinien: Ogier vor Tänak – Fourmaux raus\n\n\n\n7. Juni 2025 \n\n\n\n\n\n\n\n\n\n\n\n\n\nRallye Sardinien: Ogier nach turbulentem Freitag vorn\n\n\n\n6. Juni 2025 \n\n\n\n\n\n\n\n\n\n\n\n\n\nGALERIE: Rallye Sardinien 2025\n\n\n\n5. Juni 2025 \n\n\n\n\n\n\n\n\n\n\n\n\n\nArmin Kremer: Schrecksekunde vor dem Sieg\n\n\n\n3. Juni 2024 \n\n\n\n\n\n\n\n\n\n\n\n\n\nTänak gewinnt Rallye Sardinien mit zwei Zehnteln Vorsprung\n\n\n\n2. Juni 2024 \n\n\n\n\n1\n2\n3\n4\n…\n8\n\n\n\n\nzurück zur Übersicht
URL:https://www.rallye-magazin.de/rallye/rallye-italien/
CATEGORIES:Rallye-WM
END:VEVENT
BEGIN:VEVENT
DTSTART;TZID=Europe/Berlin:20261009T000000
DTEND;TZID=Europe/Berlin:20261010T235959
DTSTAMP:20260420T013623
CREATED:20251122T102302Z
LAST-MODIFIED:20251122T102334Z
UID:10000043-1791504000-1791676799@www.rallye-magazin.de
SUMMARY: 3-Städte-Rallye
DESCRIPTION:3-staedte-rallye.de \n\n\n\n\n\n\n\n\n\n\n\n\n\n\n\nVIDEO: Best of 3-Städte-Rallye\n\n\n\n15. Oktober 2022 \n\n\n\n\n\n\n\n\n\n\n\n\n\nVIDEO: 3-Städte-Rallye – Tag 1\n\n\n\n15. Oktober 2022 \n\n\n\n\n\n\n\n\n\n\n\n\n\nVIDEO: Shakedown 3-Städte-Rallye\n\n\n\n13. Oktober 2022 \n\n\n\n\n\n\n\n\n\n\n\n\n\n3-Städte-Rallye: Infos\, Zeitplan und Starterliste\n\n\n\n13. Oktober 2022 \n\n\n\n\n\n\n\n\n\n\n\n\n\nDer große Showdown zwischen Geipel und Griebel\n\n\n\n12. Oktober 2022 \n\n\n\n\n\n\n\n\n\n\n\n\n\n3-Städte-Rallye als Finale der Europameisterschaft?\n\n\n\n26. Juli 2022 \n\n\n\n\n\n\n\n\n\n\n\n\n\nPhilipp Kreisel: „Auch das muss man können“\n\n\n\n17. Oktober 2021 \n\n\n\n\n\n\n\n\n\n\n\n\n\nVIDEO: Best of 3-Städte-Rallye\n\n\n\n17. Oktober 2021 \n\n\n\n\n\n\n\n\n\n\n\n\n\nWagner gewinnt 3-Städte-Rallye\n\n\n\n16. Oktober 2021 \n\n\n\n\n\n\n\n\n\n\n\n\n\nVIDEO: 3-Städte-Rallye – Tag 1\n\n\n\n16. Oktober 2021 \n\n\n\n\n1\n2\n3\n\n\n\n\nzurück zur Übersicht
URL:https://www.rallye-magazin.de/rallye/3-staedte-rallye/
CATEGORIES:DRM
END:VEVENT
BEGIN:VEVENT
DTSTART;TZID=Europe/Berlin:20261105T000000
DTEND;TZID=Europe/Berlin:20261107T235959
DTSTAMP:20260420T013623
CREATED:20251012T075851Z
LAST-MODIFIED:20251103T133646Z
UID:10000029-1793836800-1794095999@www.rallye-magazin.de
SUMMARY:Lausitz-Rallye
DESCRIPTION:Weite Sprünge\, wilde Drifts und alles auf Schotter – jedes Jahr wird die Lausitz-Rallye zum Treffpunkt der Rallye-Fans\, wenn es Tausende von Zuschauern ins östliche Sachsen zieht. Die Veranstaltung rund um Boxberg und Weißwasser gilt als eine der anspruchsvollsten Schotterrallyes in Mitteleuropa.  \n\n\n\nMit ihrem unverwechselbaren Charakter\, internationalen Teilnehmern und der besonderen Atmosphäre ist die Lausitz-Rallye längst ein Highlight im deutschen Motorsportkalender geworden. \n\n\n\n\n\nlausitz-rallye.de \n\n\n\n\n\n\n\n\n\n\n\n\n\n\n\nLausitz-Rallye bleibt DRM-Finale\n\n\n\n20. November 2025 \n\n\n\n\n\n\n\n\n\n\n\n\n\nDRM künftig wieder ohne Lausitz-Rallye?\n\n\n\n4. November 2025 \n\n\n\n\n\n\n\n\n\n\n\n\n\nKahle: „Die Lausitz ist ein Saison-Highlight“\n\n\n\n4. November 2025 \n\n\n\n\n\n\n\n\n\n\n\n\n\nArmin Kremer: Begeistert von der Lausitz\n\n\n\n3. November 2025 \n\n\n\n\n\n\n\n\n\n\n\n\n\nGalerie: Lausitz-Rallye 2025 – Simon Stäudten\n\n\n\n2. November 2025 \n\n\n\n\n\n\n\n\n\n\n\n\n\nVideo: Unfall Fabian Kreim – Lausitz-Rallye\n\n\n\n2. November 2025 \n\n\n\n\n\n\n\n\n\n\n\n\n\nGalerie: Lausitz-Rallye 2025 – Jörg Ullmann\n\n\n\n2. November 2025 \n\n\n\n\n\n\n\n\n\n\n\n\n\nVideo: Best of Lausitz-Rallye 2025\n\n\n\n1. November 2025 \n\n\n\n\n\n\n\n\n\n\n\n\n\nJakub Matulka gewinnt Lausitz-Rallye 2025\n\n\n\n1. November 2025 \n\n\n\n\n\n\n\n\n\n\n\n\n\nVideo: Lausitz-Rallye 2025 – Tag 1\n\n\n\n1. November 2025 \n\n\n\n\n1\n2\n3\n4\n\n\n\n\nzurück zur Übersicht
URL:https://www.rallye-magazin.de/rallye/lausitz-rallye/
CATEGORIES:DRM
END:VEVENT
BEGIN:VEVENT
DTSTART;TZID=Europe/Berlin:20261111T000000
DTEND;TZID=Europe/Berlin:20261114T235959
DTSTAMP:20260420T013623
CREATED:20250925T144007Z
LAST-MODIFIED:20251217T131125Z
UID:10000020-1794355200-1794700799@www.rallye-magazin.de
SUMMARY:Rallye Saudi Arabien
DESCRIPTION:rally-saudiarabia.com \n\n\n\n\n\n\n\n\n\n\n\n\n\n\n\nVideo: Rallye Saudi-Arabien 2025 – Tag 4\n\n\n\n30. November 2025 \n\n\n\n\n\n\n\n\n\n\n\n\n\nTitel für Ogier – Neuville gewinnt Rallye Saudi-Arabien\n\n\n\n29. November 2025 \n\n\n\n\n\n\n\n\n\n\n\n\n\nVideo: Rallye Saudi-Arabien 2025 – Tag 3\n\n\n\n28. November 2025 \n\n\n\n\n\n\n\n\n\n\n\n\n\nRallye Saudi-Arabien: Fourmaux führte nach Chaos-Tag *Update*\n\n\n\n28. November 2025 \n\n\n\n\n\n\n\n\n\n\n\n\n\nVideo: Rallye Saudi-Arabien 2025 – Tag 2\n\n\n\n27. November 2025 \n\n\n\n\n\n\n\n\n\n\n\n\n\nGalerie: Rallye Saudi-Arabien 2025\n\n\n\n27. November 2025 \n\n\n\n\n\n\n\n\n\n\n\n\n\nRallye Saudi-Arabien: Fourmaux geht in Führung\n\n\n\n27. November 2025 \n\n\n\n\n\n\n\n\n\n\n\n\n\nVideo: Rallye Saudi-Arabien 2025 – Shakedown\n\n\n\n26. November 2025 \n\n\n\n\n\n\n\n\n\n\n\n\n\nRallye Saudi-Arabien: Tänak geht in Führung\n\n\n\n26. November 2025 \n\n\n\n\n\n\n\n\n\n\n\n\n\nZeitplan Rallye Saudi-Arabien\n\n\n\n25. November 2025 \n\n\n\n\n1\n2\n\n\n\n\nzurück zur Übersicht
URL:https://www.rallye-magazin.de/rallye/rallye-saudi-arabien/
CATEGORIES:Rallye-WM
END:VEVENT
END:VCALENDAR